BEGIN:VCALENDAR
VERSION:2.0
PRODID:-//Randi Botnick - ECPv6.15.20//NONSGML v1.0//EN
CALSCALE:GREGORIAN
METHOD:PUBLISH
X-ORIGINAL-URL:https://randibotnick.com
X-WR-CALDESC:Events for Randi Botnick
REFRESH-INTERVAL;VALUE=DURATION:PT1H
X-Robots-Tag:noindex
X-PUBLISHED-TTL:PT1H
BEGIN:VTIMEZONE
TZID:UTC
BEGIN:STANDARD
TZOFFSETFROM:+0000
TZOFFSETTO:+0000
TZNAME:UTC
DTSTART:20250101T000000
END:STANDARD
END:VTIMEZONE
BEGIN:VEVENT
DTSTART;TZID=UTC:20260303T183000
DTEND;TZID=UTC:20260303T203000
DTSTAMP:20260419T193728
CREATED:20260225T171451Z
LAST-MODIFIED:20260226T191120Z
UID:5094-1772562600-1772569800@randibotnick.com
SUMMARY:Sovereignty and Your Rights
DESCRIPTION:Restoring the Galactic Blueprint\nwith Randi Botnick and Michelle Parkerson \nWhen we think of sovereignty we often think of autonomy. Sometimes it is used to describe being at one with your body. But the Keepers of the Memories of the Earth use it slightly differently. They use it to describe our rights as a member of the human race as we all live together on this planet. \nWhile each individual has their own sovereignty — sense of self -human beings as a group must now learn to collectively grasp a sense of strength and internal power with a system that is designed to hold all the power. Where does our true power lie? And how to we consciously live that without fear or force? \nJoin Randi and Michelle as they explore this important issue with curiosity\, open hearts\, and open minds. Michelle will use tools from Spiritual Response Therapy (SRT) to help identify and clear related energetic blocks while Randi channels answers from the Galactic Masters. Participants will engage in guided reflection and practice simple spiritual techniques to help integrate what comes through. \nCost is $35\nor Pay What You Can
URL:https://randibotnick.com/event/sovereignty-and-your-rights/
LOCATION:The Coterie at Chipmunk Lodge\, Hightop Road\, Black Mountain\, NC\, 28711
ATTACH;FMTTYPE=image/jpeg:https://randibotnick.com/wp-content/uploads/2026/02/tree.jpg
END:VEVENT
END:VCALENDAR