BEGIN:VCALENDAR
VERSION:2.0
PRODID:-//Randi Botnick - ECPv6.15.20//NONSGML v1.0//EN
CALSCALE:GREGORIAN
METHOD:PUBLISH
X-ORIGINAL-URL:https://randibotnick.com
X-WR-CALDESC:Events for Randi Botnick
REFRESH-INTERVAL;VALUE=DURATION:PT1H
X-Robots-Tag:noindex
X-PUBLISHED-TTL:PT1H
BEGIN:VTIMEZONE
TZID:UTC
BEGIN:STANDARD
TZOFFSETFROM:+0000
TZOFFSETTO:+0000
TZNAME:UTC
DTSTART:20250101T000000
END:STANDARD
END:VTIMEZONE
BEGIN:VEVENT
DTSTART;TZID=UTC:20260428T110000
DTEND;TZID=UTC:20260428T123000
DTSTAMP:20260424T155813
CREATED:20260224T193830Z
LAST-MODIFIED:20260415T193705Z
UID:5077-1777374000-1777379400@randibotnick.com
SUMMARY:Playing in the Quantum Field: Restoring the Galactic Blueprint On-line Community
DESCRIPTION:Welcome to The Age of Aquarius where those serving in the Healing Arts are being asked to come out of hiding and isolation. Rapid technological advancements and a strong Uranian influence is impacting social movements and challenging the status quo. As our 3D systems tether on the brink of growth and chaos\, rigid structures are dissolving. An unprecedented number of souls are experiencing increased sensitivity to the unseen realms. It’s time for us to upgrade our own beliefs\, tools\, and consciousness in order to support this shift within ourselves and our communities. \nJoin Randi and Michelle Parkerson on-line monthly as they play in the Quantum Field with curiosity\, open hearts\, and open minds. Michelle will use tools from Spiritual Response Therapy (SRT) to help identify and clear related energetic blocks while Randi channels messages from the Galactic Masters. \nEach session will include: \n\nA co-created\, heart-centered field of resonance\nProfound and timely channeled messages\, embedded with energetic codes and clearing\nOpportunities for participants to ask questions that support new uses of spiritual tools\, clearer connection to source\, and expansion into the Quantum Field\nGuided reflection/simple spiritual techniques to help integrate what comes through\nA healing dose of Love\, humor\, connection\, and joy\n\nTo make this event accessible\, we offer two ticket prices: \n\n$30 – Supporter Price (helps sustains our ability to offer events)\n$15 – Community Price (for those who would benefit from a lower-cost option)\n\nPlease select the option that feels right for you. Your presence matters most.
URL:https://randibotnick.com/event/playing-in-the-quantum-field-restoring-the-galactic-blueprint-on-line-community/
LOCATION:Zoom
ATTACH;FMTTYPE=image/png:https://randibotnick.com/wp-content/uploads/2026/02/Trusting-Our-Biological-AI-Restoring-the-Galactic-Blueprint-7.png
END:VEVENT
BEGIN:VEVENT
DTSTART;TZID=UTC:20260505T183000
DTEND;TZID=UTC:20260505T203000
DTSTAMP:20260424T155813
CREATED:20260423T202107Z
LAST-MODIFIED:20260423T202107Z
UID:5124-1778005800-1778013000@randibotnick.com
SUMMARY:Anxiety in the Cloud
DESCRIPTION:Restoring the Galactic Blueprint with Randi and Michelle Parkerson \nEnergies ramping up. Information overload. Strong emotions everywhere. \nPersonal stress and anxiety are reaching an all time high\, but 80% of what we feel comes from the collective unconscious. Anxiety is a byproduct of fear. It is your body’s way of telling you that you aren’t paying attention to something that wants your attention. And that becomes a problem when the message never turns off. \nEach of us is a beacon\, attracting this collective energy to express through our individual lives. Our energy fields are enveloped in a cloud of thoughtforms and emotions vying for our attention. This can lead to confusion\, overwhelm\, and a disconnect from our own precious energy. \nLet’s learn how to tap in\, adjust our tuning forks\, and separate ourselves from what is not ours with the Memory Keepers of the Earth. \nIn Black Mountain – address will be shared after registration. \nSuggested Donation: $35\nBut all are welcome! \nEmail me for Registration.
URL:https://randibotnick.com/event/anxiety-in-the-cloud/
LOCATION:The Coterie at Chipmunk Lodge\, Hightop Road\, Black Mountain\, NC\, 28711
ATTACH;FMTTYPE=image/jpeg:https://randibotnick.com/wp-content/uploads/2026/04/Anxiety-in-the-Cloud-image-copy.jpg
END:VEVENT
END:VCALENDAR