BEGIN:VCALENDAR
VERSION:2.0
PRODID:-//Randi Botnick - ECPv6.15.20//NONSGML v1.0//EN
CALSCALE:GREGORIAN
METHOD:PUBLISH
X-ORIGINAL-URL:https://randibotnick.com
X-WR-CALDESC:Events for Randi Botnick
REFRESH-INTERVAL;VALUE=DURATION:PT1H
X-Robots-Tag:noindex
X-PUBLISHED-TTL:PT1H
BEGIN:VTIMEZONE
TZID:UTC
BEGIN:STANDARD
TZOFFSETFROM:+0000
TZOFFSETTO:+0000
TZNAME:UTC
DTSTART:20220101T000000
END:STANDARD
END:VTIMEZONE
BEGIN:VEVENT
DTSTART;TZID=UTC:20230512T190000
DTEND;TZID=UTC:20230512T203000
DTSTAMP:20260421T124443
CREATED:20230508T192938Z
LAST-MODIFIED:20230508T193434Z
UID:4417-1683918000-1683923400@randibotnick.com
SUMMARY:Channeled Messages for Humanity
DESCRIPTION:This will be a special evening of channeled messages from the Federation of Light. They will offer information and insights into world changes and the upcoming transformations and opportunities for humanity. This information comes with guidance and practices that you can do to facilitate and ground your personal growth. The evening will begin with a message for the group\, and there will be time for personal questions as well. \nSuggested donations for this event are $20-40. Donations can be made at the event via cash\, Venmo or Paypal. \nTo confirm your seat\, email jeanvanthul@gmail.com\, the host of the event. She will then send you her address in Asheville.
URL:https://randibotnick.com/event/channeled-messages-for-humanity-federation-of-light-healing/
LOCATION:NC
END:VEVENT
END:VCALENDAR